BEGIN:VCALENDAR
VERSION:2.0
PRODID:-//Espacio Pradillo Zarzalejo - ECPv6.15.20//NONSGML v1.0//EN
CALSCALE:GREGORIAN
METHOD:PUBLISH
X-WR-CALNAME:Espacio Pradillo Zarzalejo
X-ORIGINAL-URL:https://espaciopradillo.com
X-WR-CALDESC:Eventos para Espacio Pradillo Zarzalejo
REFRESH-INTERVAL;VALUE=DURATION:PT1H
X-Robots-Tag:noindex
X-PUBLISHED-TTL:PT1H
BEGIN:VTIMEZONE
TZID:UTC
BEGIN:STANDARD
TZOFFSETFROM:+0000
TZOFFSETTO:+0000
TZNAME:UTC
DTSTART:20250101T000000
END:STANDARD
END:VTIMEZONE
BEGIN:VEVENT
DTSTART;TZID=UTC:20260310T180000
DTEND;TZID=UTC:20260310T200000
DTSTAMP:20260424T105531
CREATED:20251012T144423Z
LAST-MODIFIED:20260304T091044Z
UID:1021-1773165600-1773172800@espaciopradillo.com
SUMMARY:MoA Resilvéstrate
DESCRIPTION:Atravesamos un paisaje en el que recordar y recuperar nuestra integridad innata\, exploramos con prácticas diferentes un mapa del yo basado en la naturaleza\, trabajando a través del movimiento y las sensaciones\, para despertar la profunda inteligencia del cuerpo. Bailamos con las cuatro facetas de la integridad humana\, cualidades esenciales que viven en todo ser humano\, y dejamos que hablen a través de la respiración\, los huesos\, los gestos\, el ritmo y la quietud. Buscamos esas partes que esperan ser movidas\, vistas\, sentidas y vividas con las guías interna del adulto protector/la sanadora y anciano\, la sabia inocente\, el ser salvaje\, la musa y guía del alma. Atendemos esas partes que saben escuchar\, proteger\, sentir\, imaginar y pertenecer\, para convertirnos en seres humanos más completos\, no solo por nosotrxs mismxs\, sino por el bien de nuestras comunidades y del planeta. \nEstas dimensiones de la integridad son energías vivas que podemos cultivar\, equilibrar y expresar a través del cuerpo. Algunas pueden resultarnos familiares\, otras pueden parecernos ausentes o poco desarrolladas. Todas son bienvenidas. \nPara más información y reservas\, contactar con Cathy. \nResilvéstrate!
URL:https://espaciopradillo.com/event/moa-resilvestrate/
LOCATION:Espacio Pradillo\, Avenida de la Cruz Verde 18\, Zarzalejo\, Madrid\, 28293\, España
ATTACH;FMTTYPE=image/jpeg:https://espaciopradillo.com/wp-content/uploads/2025/10/MoA-cabecera-h.jpg
END:VEVENT
END:VCALENDAR