BEGIN:VCALENDAR
VERSION:2.0
PRODID:-//Espacio Pradillo Zarzalejo - ECPv6.15.20//NONSGML v1.0//EN
CALSCALE:GREGORIAN
METHOD:PUBLISH
X-WR-CALNAME:Espacio Pradillo Zarzalejo
X-ORIGINAL-URL:https://espaciopradillo.com
X-WR-CALDESC:Eventos para Espacio Pradillo Zarzalejo
REFRESH-INTERVAL;VALUE=DURATION:PT1H
X-Robots-Tag:noindex
X-PUBLISHED-TTL:PT1H
BEGIN:VTIMEZONE
TZID:UTC
BEGIN:STANDARD
TZOFFSETFROM:+0000
TZOFFSETTO:+0000
TZNAME:UTC
DTSTART:20250101T000000
END:STANDARD
END:VTIMEZONE
BEGIN:VEVENT
DTSTART;TZID=UTC:20260315T100000
DTEND;TZID=UTC:20260315T190000
DTSTAMP:20260424T105406
CREATED:20251030T160028Z
LAST-MODIFIED:20260212T175601Z
UID:1043-1773568800-1773601200@espaciopradillo.com
SUMMARY:Taller de intuición ampliada\, visión extraocular y visión remota
DESCRIPTION:Durante mucho tiempo hemos caminado creyendo una historia incompleta sobre quiénes somos. Algo en nosotros recuerda\, en silencio\, una verdad más amplia que habla de la inmensidad que habita en lo más profundo del ser humano. \nNos contaron que éramos limitados\, separados\, dependientes únicamente de lo que vemos con los ojos. Pero hay otra memoria\, más antigua\, que sabe que el ser humano es vasto\, sensible y profundamente consciente. Que nuestra percepción va mucho más allá de los sentidos aprendidos. Que aún queda mucho por descubrir de lo que realmente somos capaces. \nEste encuentro es una invitación a detenernos\, a escuchar más allá del ruido\, a explorar la intuición como una forma natural de conocimiento\, a recordar capacidades que no se perdieron\, solo se olvidaron. \nLa visión extraocular y la visión remota no son un fin\, sino puertas hacia una percepción más amplia de la realidad y de nosotros mismos. \nPorque quizás no se trata de despertar algo nuevo\, sino de desaprender lo que nos dijeron que éramos\, para permitir que emerja el verdadero potencial humano. \nHay un mundo extraordinario detrás de tus ojos. Y también dentro de ti. Hay verdades que no se buscan. Simplemente se reconocen.
URL:https://espaciopradillo.com/event/vision-extra-ocular-intuicion-ampliada-y-vision-remota/
LOCATION:Espacio Pradillo\, Avenida de la Cruz Verde 18\, Zarzalejo\, Madrid\, 28293\, España
ATTACH;FMTTYPE=image/jpeg:https://espaciopradillo.com/wp-content/uploads/2025/10/VEO-Marzo-espacio-pradillo-2026.jpg
END:VEVENT
END:VCALENDAR