BEGIN:VCALENDAR
VERSION:2.0
PRODID:-//Espacio Pradillo Zarzalejo - ECPv6.15.20//NONSGML v1.0//EN
CALSCALE:GREGORIAN
METHOD:PUBLISH
X-WR-CALNAME:Espacio Pradillo Zarzalejo
X-ORIGINAL-URL:https://espaciopradillo.com
X-WR-CALDESC:Eventos para Espacio Pradillo Zarzalejo
REFRESH-INTERVAL;VALUE=DURATION:PT1H
X-Robots-Tag:noindex
X-PUBLISHED-TTL:PT1H
BEGIN:VTIMEZONE
TZID:UTC
BEGIN:STANDARD
TZOFFSETFROM:+0000
TZOFFSETTO:+0000
TZNAME:UTC
DTSTART:20250101T000000
END:STANDARD
END:VTIMEZONE
BEGIN:VEVENT
DTSTART;TZID=UTC:20260111T100000
DTEND;TZID=UTC:20260111T180000
DTSTAMP:20260424T105531
CREATED:20260105T113443Z
LAST-MODIFIED:20260105T114554Z
UID:1088-1768125600-1768154400@espaciopradillo.com
SUMMARY:Encuentro de meditación presencial
DESCRIPTION:Aprovechando el cambio de ciclo y el impulso del nuevo año\, vamos a hacer un encuentro presencial de meditación en la Sierra Oeste de Madrid.Por unas horas\, nos retiraremos de las rutinas diarias\, para centrar la atención en un espacio tan cercano como inexplorado: el interior esencial del ser humano. Esencial es aquello que existe de manera permanente y nunca cambia\, bajo ninguna circunstancia\, y conlleva naturalidad\, fluidez\, equilibrio\, calma\, y en definitiva\, bienestar incondicional. Curiosamente lo que es esencial en el ser humano\, pasa desapercibido con cierta frecuencia\, cuando nos arrastran mecanismos y teorías tan profundamente enraizadas\, que apenas somos conscientes de su existencia. \nEn este encuentro\, alternaremos charlas y prácticas meditativas que nos permitan reconocer esa esencia interior\, y cómo a veces parece que nos alejamos de ella. Habrá espacios donde indagar\, descansar\, relajarse y charlar\, en un ambiente distendido y flexible. \nRetirarnos de las rutinas diarias será algo temporal\, para vivir una experiencia de presencia y claridad mental\, sin las distracciones que habitualmente nos rodean\, y así después regresar con una comprensión más profunda y consciente acerca de nuestro interior\, del mundo\, y de la relación que existe entre ambos. No se trata tanto de escapar y evadirse de la realidad\, como de reconocerla desde una perspectiva más amplia y auténtica. Es aquí donde un encuentro presencial de meditación más nos puede ayudar. Se trata de ver con lucidez lo que ocurre en nuestro interior\, y permitir que lo más genuino y auténtico emerja por encima del piloto automático que habitualmente nos guía. \nHorario orientativo:\n10h: Llegada\n10:00– 10:30h: Presentación\n10:30 – 12:00h: Charla y Meditación\n12:00 – 12:30 h: Descanso\n12:30– 14:00h: Charla y Meditación\n14 – 15:30h: Comida\n15:30– 17:00h: Charla y Meditación\n17:00 – 18:00h: Yoga Nidra \nSerá necesario hacer Bizum o transferencia de 30€ para reservar plaza; los 25€ restantes se abonarán en efectivo el día del encuentro. \nInscripciones:\nPuedes inscribirte en este enlace \nMás información en el 644 567 455
URL:https://espaciopradillo.com/event/encuentro-de-meditacion-presencial/
LOCATION:Espacio Pradillo\, Avenida de la Cruz Verde 18\, Zarzalejo\, Madrid\, 28293\, España
ATTACH;FMTTYPE=image/jpeg:https://espaciopradillo.com/wp-content/uploads/2026/01/Meditacion.jpg
ORGANIZER;CN="Raquel Encinas":MAILTO:info@sangananda.es
END:VEVENT
END:VCALENDAR