BEGIN:VCALENDAR
VERSION:2.0
PRODID:-//Espacio Pradillo Zarzalejo - ECPv6.15.20//NONSGML v1.0//EN
CALSCALE:GREGORIAN
METHOD:PUBLISH
X-WR-CALNAME:Espacio Pradillo Zarzalejo
X-ORIGINAL-URL:https://espaciopradillo.com
X-WR-CALDESC:Eventos para Espacio Pradillo Zarzalejo
REFRESH-INTERVAL;VALUE=DURATION:PT1H
X-Robots-Tag:noindex
X-PUBLISHED-TTL:PT1H
BEGIN:VTIMEZONE
TZID:UTC
BEGIN:STANDARD
TZOFFSETFROM:+0000
TZOFFSETTO:+0000
TZNAME:UTC
DTSTART:20250101T000000
END:STANDARD
END:VTIMEZONE
BEGIN:VEVENT
DTSTART;TZID=UTC:20260201T110000
DTEND;TZID=UTC:20260201T133000
DTSTAMP:20260424T090307
CREATED:20251014T143647Z
LAST-MODIFIED:20260125T170345Z
UID:1033-1769943600-1769952600@espaciopradillo.com
SUMMARY:RUEDA DE ANA\, celebramos IMBOLC
DESCRIPTION:En Círculos de Mujeres seguimos celebrando la Rueda de Ana como Transformación y Crecimiento Personal. Esta rueda contiene la Rueda Celta del Año teniendo en cuenta los Elementos de la Naturaleza\, los Arquetipos Femeninos y las Fases de la Vida de la Mujer. \nEn este caso celebramos IMBOLC\, el punto medio entre el solsticio de invierno y el equinoccio de primavera. El tiempo se vuelve mas suave y los días más largos y luminosos. Empezamos a ver los primeros brotes en la naturaleza. Es momento de Fertilidad y Purificación. Es el momento perfecto\, punto de no retorno\, para deshacernos de lo que ya no es necesario y es una carga en nuestras vidas. Vamos dejando el elemento tierra atrás\, purificando nuestras raíces y traumas\, para gestar lo nuevo que traerá el elemento aire. \nEs el primer fuego de la rueda que se enciende con el fin de invocar los días de luz y gestar la semilla que plantamos en Yule. Es el momento de la gestación\, de mantener el fuego prendido para que esas semillas crezcan. Desde el arquetipo femenino de la Niña\, despegaremos con energía fresca y libre\, con el deseo de Vida para llevar a cabo los Nuevos Comienzos. \nTe acompaña Irene desde la práctica del Wombyoga\, la Meditación en Movimiento\, la Voz y el Ritual como llaves para la Transformación de la Vida de las Mujeres. \nSi reservas antes del 18/01 tienes PRECIO ESPECIAL * 25 euros *. Después 30 euros. \nMás información y reservas aquí
URL:https://espaciopradillo.com/event/rueda-de-ana-celebramos-imbolc/
LOCATION:Espacio Pradillo\, Avenida de la Cruz Verde 18\, Zarzalejo\, Madrid\, 28293\, España
ATTACH;FMTTYPE=image/jpeg:https://espaciopradillo.com/wp-content/uploads/2025/10/Circulo-Mujeres-febrero.jpeg
END:VEVENT
BEGIN:VEVENT
DTSTART;TZID=UTC:20260214T103000
DTEND;TZID=UTC:20260214T133000
DTSTAMP:20260424T090307
CREATED:20260125T165848Z
LAST-MODIFIED:20260221T183128Z
UID:1110-1771065000-1771075800@espaciopradillo.com
SUMMARY:Umbral\, taller de mujeres
DESCRIPTION:Hay momentos en la vida en los que algo dentro de nosotras empieza a moverse. No siempre tiene forma ni palabras claras\, pero se siente en el cuerpo. Un cansancio con lo viejo. Un llamado suave —o intenso— hacia lo que quiere nacer. Un umbral. \nUMBRAL es un taller presencial creado para mujeres que están atravesando transiciones\, cambios\, cierres o inicios\, y sienten el deseo de habitar ese pasaje con más conciencia\, cuerpo y sostén. Un espacio para detenerte\, escucharte y reconectar con tu impulso vital\, desde la sabiduría del cuerpo y el liderazgo femenino. \nDurante este encuentro de 3 horas fusionaremos tres lenguajes profundos y complementarios:\n· Danza primal\, para soltar el control mental y permitir que el cuerpo exprese lo que necesita moverse.\n· Astrología\, como espejo simbólico que nos ayuda a comprender ciclos\, ritmos y procesos vitales.\n· Ritual\, como acto de presencia e integración\, para honrar lo que se cierra y dar fuerza a lo nuevo. \nNo venimos a forzar procesos\, sino a escuchar lo que ya está listo. UMBRAL es una invitación a volver al cuerpo como territorio de verdad\, a reconocer tu propia autoridad interna y a atravesar tus procesos con más confianza\, coherencia y amor. \nEl encuentro será guiado por Lau Giunta & Natalia Meronio Campillo\, amigas del alma y facilitadoras dedicadas al acompañamiento de mujeres en sus procesos de transformación\, desde una mirada sensible\, profunda y encarnada. Si sientes que estás en un momento de cruce\, si algo en ti pide ser escuchado y sostenido\, este espacio es para ti. \nSi reservas antes del 8 de febrero te descontamos 10€
URL:https://espaciopradillo.com/event/umbral-taller-de-mujeres/
LOCATION:Espacio Pradillo\, Avenida de la Cruz Verde 18\, Zarzalejo\, Madrid\, 28293\, España
ATTACH;FMTTYPE=image/jpeg:https://espaciopradillo.com/wp-content/uploads/2026/01/Umbral-Febrero.jpeg
END:VEVENT
BEGIN:VEVENT
DTSTART;TZID=UTC:20260221T110000
DTEND;TZID=UTC:20260221T170000
DTSTAMP:20260424T090307
CREATED:20260207T122952Z
LAST-MODIFIED:20260207T132103Z
UID:1118-1771671600-1771693200@espaciopradillo.com
SUMMARY:Vibración y presencia
DESCRIPTION:¿Hace cuánto que no te dedicas un día entero para TI? \n​A veces el ruido del día a día nos impide escucharnos. Por eso\, hemos creado Vibración y Presencia\, un encuentro diseñado para bajar las revoluciones y volver a habitar nuestro cuerpo a través de los sentidos. \n​¿Qué vivirás en esta jornada?\n​Sentir la libertad: Empezaremos soltando el cuerpo y rompiendo el hielo con el movimiento.\n​Encontrar el silencio: Una práctica de Mindfulness para calmar la mente.\n​Equilibrio emocional: Un taller práctico con aceites esenciales para llevarte bienestar a casa.\n​Relajación profunda: Un viaje sonoro con Baño de Gong que regenera cada célula. \nACTIVIDADES \n10:00-12:00 Baile para «romper el hielo»12:15-13:15 Mindfulness13:30-14:30 Aceites esenciales y bienestar emocional14:30 – 15:30 Comida.15:45-16:45 Baño de Gong16:45- 17:00 cierre \n​Todo esto en el entorno privilegiado de Zarzalejo\, en una finca que cuenta con un gran merendero para compartir nuestra comida al aire libre. Por favor\, cada uno se lleva su comida. \n​​🌿 Facilitan: Kati\, Yara y Nayiride.\n​Regálate este paréntesis. Las plazas son limitadas para mantener la calidez del grupo. \n​📲 Reserva tu plaza en este enlace
URL:https://espaciopradillo.com/event/vibracion-y-presencia/
LOCATION:Espacio Pradillo\, Avenida de la Cruz Verde 18\, Zarzalejo\, Madrid\, 28293\, España
ATTACH;FMTTYPE=image/jpeg:https://espaciopradillo.com/wp-content/uploads/2026/02/vibracion-y-presencia3.jpg
END:VEVENT
END:VCALENDAR